{"text_format":"1","workbook":"xlsx","n_sheets":8,"sheets":["入力シート","入力例","アスファルト_1正","アスファルト_2副","アスファルト_3試験担当","アスファルト_4申込者控","アスファルト_5成績書","link"],"not_rendered":{"charts":0,"images":2,"macros":0,"external_links":0,"defined_names":7,"comments":0,"pivot_tables":0},"unopened":[],"bounds":{"document_bytes":16777216,"sheet_cells":100000,"rows_first":2000,"rows_last":500,"rows_between":2000,"halvings":0,"cell_chars":16384,"cell_head_chars":4096},"cells_cut":0,"cells_raw":0,"read":"whole","date_system":"1900"}

{"sheet":"入力シート","index":0,"n_rows":44,"n_cols":14,"rows_kept":44,"cut":false,"hidden":false,"merged":[[31,0,32,0],[31,1,32,1],[31,2,31,4],[31,5,31,6],[31,8,31,10],[32,2,32,7],[27,0,30,0],[27,1,30,1],[27,8,27,10],[29,8,29,10],[30,8,30,10],[28,8,28,10],[27,5,27,6],[28,5,28,6],[27,2,27,4],[28,2,28,4],[29,5,29,6],[30,5,30,6],[29,2,30,3],[7,0,12,0],[14,2,14,6],[12,2,12,7],[11,2,11,7],[15,4,15,7],[6,2,6,7],[7,2,7,7],[8,2,8,7],[9,2,9,7],[10,2,10,7],[23,0,26,0],[23,1,26,1],[19,2,19,7],[22,4,22,5],[22,8,22,10],[25,2,25,5],[25,6,25,7],[21,2,21,4],[21,5,21,6],[37,9,38,9],[37,10,38,10],[20,2,20,7],[23,2,23,5],[23,6,23,7],[26,3,26,5],[20,8,20,10],[33,7,34,7],[33,6,34,6],[33,2,34,5],[35,2,36,5],[35,6,36,6],[35,7,36,7],[23,8,26,10],[35,10,36,10],[33,0,39,0],[33,8,34,8],[35,8,36,8],[37,8,38,8],[33,1,39,1],[37,2,38,5],[37,6,38,6],[37,7,38,7],[12,8,12,10],[16,2,16,7],[33,10,34,10],[33,9,34,9],[35,9,36,9],[32,8,32,10],[21,8,21,10],[19,8,19,10],[17,2,17,7],[18,2,18,7],[0,11,1,15],[0,1,0,10],[1,1,1,10],[16,8,16,10],[40,8,40,10],[39,2,39,8],[11,8,11,10],[10,8,10,10],[9,8,9,10],[8,8,8,10],[7,8,7,10],[6,8,6,10],[18,8,18,10],[17,8,17,10],[15,8,15,10],[14,8,14,10]]}
[null,"建設材料試験申込書 入力シート",null,null,null,null,null,null,null,null,null,"　各シートの印刷は、入力シートの下に\n　一括印刷ボタンがあります。"]
[null," （アスファルト試験用）"]
[]
[null,"●赤い欄内に入力、またはチェックボックスにチェックを入れてください。"]
[null,"●英数字は半角で入力ください。"]
[]
[null,"項　目","記　入　欄",null,null,null,null,null,"備考"]
["申込者","〒",null,null,null,null,null,null,"※「-」を入れる"]
[null,"住　所"]
[null,"会社名"]
[null,"担当者"]
[null,"連絡先①",null,null,null,null,null,null,"※「-」を入れる"]
[null,"連絡先②",null,null,null,null,null,null,"※連絡先は携帯、１件のみでも可"]
[]
[1,"工事名",null,null,null,null,null,"工事"]
[2,"工事場所",null,"区",null,null,null,null,"※町名までを記入"]
[3,"工事監督課",null,null,null,null,null,null,"（記入例）\n都市整備局　東部整備事務所　工務第一課\n上下水道局 西部工事事務所 下水道課\n若松区役所　まちづくり整備課"]
[4,"監督員",null,null,null,null,null,null,null,null,null,null,"9. 材　質"]
[5,"工　種",null,null,null,null,null,null,null,null,null,null,"新材",false]
[6,"製造業者",null,null,null,null,null,null,null,null,null,null,"再生材",false]
[7,"資料採取個所"]
[8,"舗設日",null,null,null,null,null,"個","※月日（曜） ／ 個数を記入",null,null,null,"10. アスファルト種類"]
[9,"材　質",null,null,null,null,null,null,"※当てはまる内容にチェック",null,null,null,"密13mm",false]
[10,"アスファルト種類",null,null,null,null,null,null,"※当てはまる内容にチェック\n※その他の場合は、その他欄を\n　　チェックして（　　）内に記入",null,null,null,"細13mm",false]
[null,null,null,null,null,null,null,null,null,null,null,null,"開13mm",false]
[null,null,null,null,null,null,null,null,null,null,null,null,"ギャップ13mm",false]
[null,null,null,null,null,null,null,null,null,null,null,null,"ギャップ13mm\n（生ゴム入り）",false]
[11,"基準値","設計アスファルト量",null,null,null,null,"％",null,null,null,null,"密20mm",false]
[null,null,"密　度",null,null,null,null,"g/㎤",null,null,null,null,"粗20mm",false]
[null,null,"通過重量百分率（粒度）",null,"2.36mm通過分",null,null,"％",null,null,null,null,"改質Ⅰ",false]
[null,null,null,null,"0.075mm通過分",null,null,"％",null,null,null,null,"改質Ⅱ",false]
[12,"備　考","舗装面積　",null,null,null,null,"㎡",null,null,null,null,"その他",false]
[]
[13,"アスファルト\n試験項目","①アスファルコアト密度試験\n　　　整理番号: ３１／ 単位: １個／ 単価: 1,680円",null,null,null,null,"件","計",{"$f":"G34*1680","v":0},"円"]
[null,null,null,null,null,null,null,null,null,null,null,null,"14. 通知方法"]
[null,null,"②アスファルト抽出試験（ふるい分け含む）\n　　　整理番号: ３２／ 単位: １個／ 単価: 14,310円",null,null,null,null,"件","計",{"$f":"G36*14310","v":0},"円",null,"試験場",false]
[null,null,null,null,null,null,null,null,null,null,null,null,"郵送",false]
[null,null,"③その他（再交付）\n　　　整理番号: ５１／ 単位: 件 ／ 単価: 　300円",null,null,null,null,"件","計",{"$f":"G38*300","v":0},"円"]
[]
[null,null,"手数料合計",null,null,null,null,null,null,{"$f":"SUM(J34:J39)","v":0},"円"]
[14,"通知方法"]
[]
[null,null,null,null,null,null,"印刷プレビュー画面に移動します。"]
[null,null,null,null,null,null,"そこで左上の「印刷」ボタンを押すと各シートを印刷します。"]

{"sheet":"入力例","index":1,"n_rows":41,"n_cols":14,"rows_kept":41,"cut":false,"hidden":false,"merged":[[31,0,32,0],[31,1,32,1],[31,2,31,4],[31,5,31,6],[31,8,31,10],[32,2,32,7],[32,8,32,10],[7,0,12,0],[7,2,7,7],[7,8,7,10],[8,2,8,7],[8,8,8,10],[9,2,9,7],[9,8,9,10],[10,2,10,7],[10,8,10,10],[11,2,11,7],[11,8,11,10],[12,2,12,7],[12,8,12,10],[0,1,0,10],[0,11,1,15],[1,1,1,10],[6,2,6,7],[6,8,6,10],[14,2,14,6],[14,8,14,10],[15,4,15,7],[15,8,15,10],[16,2,16,7],[16,8,16,10],[17,2,17,7],[17,8,17,10],[18,2,18,7],[18,8,18,10],[19,2,19,7],[19,8,19,10],[20,2,20,7],[20,8,20,10],[21,2,21,4],[21,5,21,6],[21,8,21,10],[22,4,22,5],[22,8,22,10],[23,0,26,0],[23,1,26,1],[23,2,23,5],[23,6,23,7],[23,8,26,10],[25,2,25,5],[25,6,25,7],[26,3,26,5],[27,0,30,0],[27,1,30,1],[27,2,27,4],[27,5,27,6],[27,8,27,10],[28,2,28,4],[28,5,28,6],[28,8,28,10],[29,2,30,3],[29,5,29,6],[29,8,29,10],[30,5,30,6],[30,8,30,10],[33,0,39,0],[33,1,39,1],[33,2,34,5],[33,6,34,6],[33,7,34,7],[37,2,38,5],[37,6,38,6],[37,7,38,7],[37,9,38,9],[37,10,38,10],[39,2,39,8],[40,8,40,10],[33,9,34,9],[33,10,34,10],[35,2,36,5],[35,6,36,6],[35,7,36,7],[35,8,36,8],[35,9,36,9],[35,10,36,10],[33,8,34,8],[37,8,38,8]]}
[null,"【入力例】　建設材料試験申込書 入力シート"]
[null," （アスファルト試験用）"]
[]
[null,"●赤い欄内に入力、またはチェックボックスにチェックを入れてください。"]
[null,"●英数字は半角で入力ください。"]
[]
[null,"項　目","記　入　欄",null,null,null,null,null,"備考"]
["申込者","〒","803-0813",null,null,null,null,null,"※「-」を入れる"]
[null,"住　所","北九州市小倉北区〇〇□□"]
[null,"会社名","株式会社　〇□"]
[null,"担当者","北九州　太郎"]
[null,"連絡先①","090-1111-2222",null,null,null,null,null,"※「-」を入れる"]
[null,"連絡先②","093-000-1234",null,null,null,null,null,"※連絡先は携帯、１件のみでも可"]
[]
[1,"工事名","〇△□",null,null,null,null,"工事"]
[2,"工事場所","小倉南","区","△△町",null,null,null,"※町名までを記入"]
[3,"工事監督課","建設局　東部整備事務所　工務第一課",null,null,null,null,null,"（記入例）\n都市整備局　東部整備事務所　工務第一課\n上下水道局 西部工事事務所 下水道課\n若松区役所　まちづくり整備課"]
[4,"監督員","北九　花子"]
[5,"工　種","車道表層工"]
[6,"製造業者","△△△株式会社",null,null,null,null,null,null,null,null,null,null,true]
[7,"資料採取個所","〇〇〇採取個所"]
[8,"舗設日","7月30日（水）",null,null,3,null,"個","※月日（曜） ／ 個数を記入"]
[9,"材　質",null,null,null,null,null,null,"※当てはまる内容にチェック"]
[10,"アスファルト種類",null,null,null,null,null,null,"※当てはまる内容にチェック\n※その他の場合は、その他欄を\n　　チェックして（　　）内に記入"]
[]
[]
[]
[11,"基準値","設計アスファルト量",null,null,5.0999999999999996,null,"％",null,null,null,null,null,true]
[null,null,"密　度",null,null,2.38,null,"g/㎤"]
[null,null,"通過重量百分率（粒度）",null,"2.36mm通過分",48.8,null,"％"]
[null,null,null,null,"0.075mm通過分",5.8,null,"％"]
[12,"備　考","舗装面積　",null,null,750,null,"㎡"]
[null,null,"〇△□〇△□"]
[13,"アスファルト\n試験項目","①アスファルコアト密度試験\n　　　整理番号: ３１／ 単位: １個／ 単価: 1,680円",null,null,null,3,"件","計",{"$f":"G34*1680","v":5040},"円"]
[]
[null,null,"②アスファルト抽出試験（ふるい分け含む）\n　　　整理番号: ３２／ 単位: １個／ 単価: 14,310円",null,null,null,3,"件","計",{"$f":"G36*14310","v":42930},"円"]
[]
[null,null,"③その他（再交付）\n　　　整理番号: ５１／ 単位: 件 ／ 単価: 　300円",null,null,null,null,"件","計",{"$f":"G38*300","v":0},"円"]
[]
[null,null,"手数料合計",null,null,null,null,null,null,{"$f":"SUM(J34:J39)","v":47970},"円"]
[14,"通知方法"]

{"sheet":"アスファルト_1正","index":2,"n_rows":31,"n_cols":19,"rows_kept":31,"cut":false,"hidden":false,"merged":[[4,1,4,6],[18,1,21,1],[22,1,23,1],[21,4,21,9],[22,2,22,5],[22,6,22,9],[21,2,21,3],[18,2,20,18],[23,2,23,5],[23,6,23,8],[23,13,23,14],[23,9,23,11],[23,15,23,17],[22,11,22,13],[22,14,22,17],[18,0,21,0],[27,1,27,2],[27,7,27,8],[28,1,28,2],[28,7,28,8],[25,0,28,0],[25,1,25,18],[26,1,26,2],[26,7,26,8],[22,0,23,0],[26,5,26,6],[27,5,27,6],[28,5,28,6],[26,9,26,12],[26,17,26,18],[26,15,26,16],[29,2,29,18],[30,14,30,18],[0,15,0,18],[11,17,11,18],[11,2,11,16],[6,3,6,5],[2,0,2,18],[7,2,7,18],[6,1,7,1],[6,0,10,0],[9,1,10,1],[9,8,10,11],[8,2,8,18],[9,2,10,7],[10,13,10,18],[6,6,6,18],[27,9,28,12],[27,13,28,13],[27,14,28,14],[27,15,28,16],[27,17,28,18],[24,3,24,4],[24,6,24,18],[21,10,21,18],[9,13,9,18],[12,6,12,18],[12,2,12,4],[13,2,13,18],[17,9,17,11],[17,12,17,18],[14,2,14,7],[14,12,14,18],[14,9,14,11],[15,2,15,18],[16,2,16,18],[17,5,17,6],[17,2,17,4]]}
[null,null,null,null,null,null,null,null,null,null,null,null,null,null,null,"（正）"]
[]
["建 設 材 料 試 験 申 込 書\n（アスファルト試験用）"]
[]
[null,"北九州市長　武 内 和 久 様"]
[]
["申　込　者","住　所","〒",{"$f":"TEXT(入力シート!C8,\"###-####\")","v":"-"}]
[null,null,{"$f":"入力シート!C9&\"\"","v":""}]
[null,"会社名",{"$f":"入力シート!C10&\"\"","v":""}]
[null,"担当者",{"$f":"入力シート!C11:H11&\"\"","v":""},null,null,null,null,null,"連絡先",null,null,null,null,{"$f":"入力シート!C12&\"\"","v":""}]
[null,null,null,null,null,null,null,null,null,null,null,null,null,{"$f":"入力シート!C13&\"\"","v":""}]
[1,"工事名",{"$f":"入力シート!C15:G15&\"\"","v":""},null,null,null,null,null,null,null,null,null,null,null,null,null,null,"工事"]
[2,"工事場所",{"$f":"入力シート!C16&\"\"","v":""},null,null,"区",{"$f":"入力シート!E16&\"\"","v":""}]
[3,"工事監督課",{"$f":"入力シート!C17&\"\"","v":""}]
[4,"監督員",{"$f":"入力シート!C18:H18&\"\"","v":""},null,null,null,null,null,5,"工　種",null,null,{"$f":"入力シート!C19&\"\"","v":""}]
[6,"製造業者",{"$f":"入力シート!C20&\"\"","v":""}]
[7,"資料採取個所",{"$f":"入力シート!C21&\"\"","v":""}]
[8,"舗設日",{"$f":"入力シート!C22&\"\"","v":""},null,null,{"$f":"入力シート!F22&\"\"","v":""},null,"個",9,"材　質"]
[10,"アスファルト\n種　　類"]
[]
[]
[null,null,null,null,{"$f":"入力シート!D27&\"\"","v":""},null,null,null,null,null," ）"]
[11,"基準値","設計アスファルト量",null,null,null,{"$f":"入力シート!F28&\"\"","v":""},null,null,null,"％","密　度",null,null,{"$f":"入力シート!F29&\"\"","v":""},null,null,null,"g/㎤"]
[null,null,"通過重量百分率\n（粒度）",null,null,null,"2.36mm\n通過分",null,null,{"$f":"入力シート!F30&\"\"","v":""},null,null,"％","0.075mm\n通過分",null,{"$f":"入力シート!F31&\"\"","v":""},null,null,"％"]
[12,"備　考","舗装\n面積",{"$f":"入力シート!F32&\"\"","v":""},null,"㎡",{"$f":"入力シート!C33&\"\"","v":""}]
[13," アスファルト試験項目",null,null,null,null,null,null,null,null,null,null,null,false]
[null,"試験名",null,"整理\n番号","単位","単価",null,"件数",null,"試験名",null,null,null,"整理\n番号","単位","単価",null,"件数"]
[null," ①アスファルトコア\n　 密度試験",null,31,"１個","1,680円",null,{"$f":"入力シート!G34&\"\"","v":""},null," ③その他\n　 （再 交 付）",null,null,null,51,"件","300円",null,{"$f":"入力シート!G38&\"\"","v":""}]
[null," ②アスファルト抽出試験\n　　（ふるい分け含む）",null,32,"１個","14,310円",null,{"$f":"入力シート!G36&\"\"","v":""}]
[14,"通知方法"]
[null,null,null,null,null,null,null,null,null,null,null,null,null,null,{"$f":"入力シート!J40","v":0}]

{"sheet":"アスファルト_2副","index":3,"n_rows":31,"n_cols":19,"rows_kept":31,"cut":false,"hidden":false,"merged":[[24,3,24,4],[24,6,24,18],[0,15,0,18],[4,1,4,6],[6,0,10,0],[6,1,7,1],[6,3,6,5],[6,6,6,18],[7,2,7,18],[8,2,8,18],[9,1,10,1],[9,2,10,7],[9,8,10,11],[9,13,9,18],[10,13,10,18],[11,2,11,16],[11,17,11,18],[12,2,12,4],[12,6,12,18],[13,2,13,18],[14,2,14,7],[14,9,14,11],[14,12,14,18],[15,2,15,18],[16,2,16,18],[17,2,17,4],[17,5,17,6],[17,9,17,11],[17,12,17,18],[18,0,21,0],[18,1,21,1],[18,2,20,18],[21,2,21,3],[21,4,21,9],[21,10,21,18],[22,14,22,17],[23,2,23,5],[23,6,23,8],[23,9,23,11],[23,13,23,14],[22,0,23,0],[22,1,23,1],[22,2,22,5],[22,6,22,9],[22,11,22,13],[28,5,28,6],[28,7,28,8],[25,1,25,18],[26,1,26,2],[26,5,26,6],[26,7,26,8],[26,9,26,12],[29,2,29,18],[30,14,30,18],[2,0,3,18],[26,15,26,16],[26,17,26,18],[27,1,27,2],[27,5,27,6],[27,7,27,8],[27,9,28,12],[27,13,28,13],[27,14,28,14],[27,15,28,16],[27,17,28,18],[23,15,23,17],[25,0,28,0],[28,1,28,2]]}
[null,null,null,null,null,null,null,null,null,null,null,null,null,null,null,"（副）"]
[]
["建 設 材 料 試 験 申 込 書\n（アスファルト試験用）"]
[]
[null,"北九州市長　武 内 和 久 様"]
[]
["申　込　者","住　所","〒",{"$f":"TEXT(入力シート!C8,\"###-####\")","v":"-"}]
[null,null,{"$f":"入力シート!C9&\"\"","v":""}]
[null,"会社名",{"$f":"入力シート!C10&\"\"","v":""}]
[null,"担当者",{"$f":"入力シート!C11:H11&\"\"","v":""},null,null,null,null,null,"連絡先",null,null,null,null,{"$f":"入力シート!C12&\"\"","v":""}]
[null,null,null,null,null,null,null,null,null,null,null,null,null,{"$f":"入力シート!C13&\"\"","v":""}]
[1,"工事名",{"$f":"入力シート!C15:G15&\"\"","v":""},null,null,null,null,null,null,null,null,null,null,null,null,null,null,"工事"]
[2,"工事場所",{"$f":"入力シート!C16&\"\"","v":""},null,null,"区",{"$f":"入力シート!E16&\"\"","v":""}]
[3,"工事監督課",{"$f":"入力シート!C17&\"\"","v":""}]
[4,"監督員",{"$f":"入力シート!C18:H18&\"\"","v":""},null,null,null,null,null,5,"工　種",null,null,{"$f":"入力シート!C19&\"\"","v":""}]
[6,"製造業者",{"$f":"入力シート!C20&\"\"","v":""}]
[7,"資料採取個所",{"$f":"入力シート!C21&\"\"","v":""}]
[8,"舗設日",{"$f":"入力シート!C22&\"\"","v":""},null,null,{"$f":"入力シート!F22&\"\"","v":""},null,"個",9,"材　質"]
[10,"アスファルト\n種　　類"]
[]
[]
[null,null,null,null,{"$f":"入力シート!D27&\"\"","v":""},null,null,null,null,null," ）"]
[11,"基準値","設計アスファルト量",null,null,null,{"$f":"入力シート!F28&\"\"","v":""},null,null,null,"％","密　度",null,null,{"$f":"入力シート!F29&\"\"","v":""},null,null,null,"g/㎤"]
[null,null,"通過重量百分率\n（粒度）",null,null,null,"2.36mm\n通過分",null,null,{"$f":"入力シート!F30&\"\"","v":""},null,null,"％","0.075mm\n通過分",null,{"$f":"入力シート!F31&\"\"","v":""},null,null,"％"]
[12,"備　考","舗装\n面積",{"$f":"入力シート!F32&\"\"","v":""},null,"㎡",{"$f":"入力シート!C33&\"\"","v":""}]
[13," アスファルト試験項目",null,null,null,null,null,null,null,null,null,null,null,false]
[null,"試験名",null,"整理\n番号","単位","単価",null,"件数",null,"試験名",null,null,null,"整理\n番号","単位","単価",null,"件数"]
[null," ①アスファルトコア\n　 密度試験",null,31,"１個","1,680円",null,{"$f":"入力シート!G34&\"\"","v":""},null," ③その他\n　 （再 交 付）",null,null,null,51,"件","300円",null,{"$f":"入力シート!G38&\"\"","v":""}]
[null," ②アスファルト抽出試験\n　　（ふるい分け含む）",null,32,"１個","14,310円",null,{"$f":"入力シート!G36&\"\"","v":""}]
[14,"通知方法"]
[null,null,null,null,null,null,null,null,null,null,null,null,null,null,{"$f":"入力シート!J40","v":0}]

{"sheet":"アスファルト_3試験担当","index":4,"n_rows":31,"n_cols":19,"rows_kept":31,"cut":false,"hidden":false,"merged":[[24,3,24,4],[24,6,24,18],[4,1,4,6],[6,0,10,0],[6,1,7,1],[6,3,6,5],[6,6,6,18],[7,2,7,18],[8,2,8,18],[9,1,10,1],[9,2,10,7],[9,8,10,11],[9,13,9,18],[10,13,10,18],[11,2,11,16],[11,17,11,18],[12,2,12,4],[12,6,12,18],[13,2,13,18],[14,2,14,7],[14,9,14,11],[14,12,14,18],[15,2,15,18],[16,2,16,18],[17,2,17,4],[17,5,17,6],[17,9,17,11],[17,12,17,18],[18,0,21,0],[18,1,21,1],[18,2,20,18],[21,2,21,3],[21,4,21,9],[21,10,21,18],[22,14,22,17],[23,2,23,5],[23,6,23,8],[23,9,23,11],[23,13,23,14],[22,0,23,0],[22,1,23,1],[22,2,22,5],[22,6,22,9],[22,11,22,13],[28,5,28,6],[28,7,28,8],[25,0,28,0],[25,1,25,18],[26,1,26,2],[26,5,26,6],[26,7,26,8],[26,9,26,12],[29,2,29,18],[30,14,30,18],[0,12,0,18],[2,0,3,18],[26,15,26,16],[26,17,26,18],[27,1,27,2],[27,5,27,6],[27,7,27,8],[27,9,28,12],[27,13,28,13],[27,14,28,14],[27,15,28,16],[27,17,28,18],[23,15,23,17],[28,1,28,2]]}
[null,null,null,null,null,null,null,null,null,null,null,null,"（試験担当）"]
[]
["建 設 材 料 試 験 申 込 書\n（アスファルト試験用）"]
[]
[null,"北九州市長　武 内 和 久 様"]
[]
["申　込　者","住　所","〒",{"$f":"TEXT(入力シート!C8,\"###-####\")","v":"-"}]
[null,null,{"$f":"入力シート!C9&\"\"","v":""}]
[null,"会社名",{"$f":"入力シート!C10&\"\"","v":""}]
[null,"担当者",{"$f":"入力シート!C11:H11&\"\"","v":""},null,null,null,null,null,"連絡先",null,null,null,null,{"$f":"入力シート!C12&\"\"","v":""}]
[null,null,null,null,null,null,null,null,null,null,null,null,null,{"$f":"入力シート!C13&\"\"","v":""}]
[1,"工事名",{"$f":"入力シート!C15:G15&\"\"","v":""},null,null,null,null,null,null,null,null,null,null,null,null,null,null,"工事"]
[2,"工事場所",{"$f":"入力シート!C16&\"\"","v":""},null,null,"区",{"$f":"入力シート!E16&\"\"","v":""}]
[3,"工事監督課",{"$f":"入力シート!C17&\"\"","v":""}]
[4,"監督員",{"$f":"入力シート!C18:H18&\"\"","v":""},null,null,null,null,null,5,"工　種",null,null,{"$f":"入力シート!C19&\"\"","v":""}]
[6,"製造業者",{"$f":"入力シート!C20&\"\"","v":""}]
[7,"資料採取個所",{"$f":"入力シート!C21&\"\"","v":""}]
[8,"舗設日",{"$f":"入力シート!C22&\"\"","v":""},null,null,{"$f":"入力シート!F22&\"\"","v":""},null,"個",9,"材　質"]
[10,"アスファルト\n種　　類"]
[]
[]
[null,null,null,null,{"$f":"入力シート!D27&\"\"","v":""},null,null,null,null,null," ）"]
[11,"基準値","設計アスファルト量",null,null,null,{"$f":"入力シート!F28&\"\"","v":""},null,null,null,"％","密　度",null,null,{"$f":"入力シート!F29&\"\"","v":""},null,null,null,"g/㎤"]
[null,null,"通過重量百分率\n（粒度）",null,null,null,"2.36mm\n通過分",null,null,{"$f":"入力シート!F30&\"\"","v":""},null,null,"％","0.075mm\n通過分",null,{"$f":"入力シート!F31&\"\"","v":""},null,null,"％"]
[12,"備　考","舗装\n面積",{"$f":"入力シート!F32&\"\"","v":""},null,"㎡",{"$f":"入力シート!C33&\"\"","v":""}]
[13," アスファルト試験項目",null,null,null,null,null,null,null,null,null,null,null,false]
[null,"試験名",null,"整理\n番号","単位","単価",null,"件数",null,"試験名",null,null,null,"整理\n番号","単位","単価",null,"件数"]
[null," ①アスファルトコア\n　 密度試験",null,31,"１個","1,680円",null,{"$f":"入力シート!G34&\"\"","v":""},null," ③その他\n　 （再 交 付）",null,null,null,51,"件","300円",null,{"$f":"入力シート!G38&\"\"","v":""}]
[null," ②アスファルト抽出試験\n　　（ふるい分け含む）",null,32,"１個","14,310円",null,{"$f":"入力シート!G36&\"\"","v":""}]
[14,"通知方法"]
[null,null,null,null,null,null,null,null,null,null,null,null,null,null,{"$f":"入力シート!J40","v":0}]

{"sheet":"アスファルト_4申込者控","index":5,"n_rows":31,"n_cols":19,"rows_kept":31,"cut":false,"hidden":false,"merged":[[24,3,24,4],[24,6,24,18],[0,12,0,18],[4,1,4,6],[6,0,10,0],[6,1,7,1],[6,3,6,5],[6,6,6,18],[7,2,7,18],[8,2,8,18],[9,1,10,1],[9,2,10,7],[9,8,10,11],[9,13,9,18],[10,13,10,18],[11,2,11,16],[11,17,11,18],[12,2,12,4],[12,6,12,18],[13,2,13,18],[14,2,14,7],[14,9,14,11],[14,12,14,18],[15,2,15,18],[16,2,16,18],[17,2,17,4],[17,5,17,6],[17,9,17,11],[17,12,17,18],[18,0,21,0],[18,1,21,1],[18,2,20,18],[21,2,21,3],[21,4,21,9],[21,10,21,18],[22,14,22,17],[23,2,23,5],[23,6,23,8],[23,9,23,11],[23,13,23,14],[22,0,23,0],[22,1,23,1],[22,2,22,5],[22,6,22,9],[22,11,22,13],[28,5,28,6],[28,7,28,8],[25,1,25,18],[26,1,26,2],[26,5,26,6],[26,7,26,8],[26,9,26,12],[29,2,29,18],[30,14,30,18],[2,0,3,18],[26,15,26,16],[26,17,26,18],[27,1,27,2],[27,5,27,6],[27,7,27,8],[27,9,28,12],[27,13,28,13],[27,14,28,14],[27,15,28,16],[27,17,28,18],[23,15,23,17],[25,0,28,0],[28,1,28,2]]}
[null,null,null,null,null,null,null,null,null,null,null,null,"（申込者控）"]
[]
["建 設 材 料 試 験 申 込 書\n（アスファルト試験用）"]
[]
[null,"北九州市長　武 内 和 久 様"]
[]
["申　込　者","住　所","〒",{"$f":"TEXT(入力シート!C8,\"###-####\")","v":"-"}]
[null,null,{"$f":"入力シート!C9&\"\"","v":""}]
[null,"会社名",{"$f":"入力シート!C10&\"\"","v":""}]
[null,"担当者",{"$f":"入力シート!C11:H11&\"\"","v":""},null,null,null,null,null,"連絡先",null,null,null,null,{"$f":"入力シート!C12&\"\"","v":""}]
[null,null,null,null,null,null,null,null,null,null,null,null,null,{"$f":"入力シート!C13&\"\"","v":""}]
[1,"工事名",{"$f":"入力シート!C15:G15&\"\"","v":""},null,null,null,null,null,null,null,null,null,null,null,null,null,null,"工事"]
[2,"工事場所",{"$f":"入力シート!C16&\"\"","v":""},null,null,"区",{"$f":"入力シート!E16&\"\"","v":""}]
[3,"工事監督課",{"$f":"入力シート!C17&\"\"","v":""}]
[4,"監督員",{"$f":"入力シート!C18:H18&\"\"","v":""},null,null,null,null,null,5,"工　種",null,null,{"$f":"入力シート!C19&\"\"","v":""}]
[6,"製造業者",{"$f":"入力シート!C20&\"\"","v":""}]
[7,"資料採取個所",{"$f":"入力シート!C21&\"\"","v":""}]
[8,"舗設日",{"$f":"入力シート!C22&\"\"","v":""},null,null,{"$f":"入力シート!F22&\"\"","v":""},null,"個",9,"材　質"]
[10,"アスファルト\n種　　類"]
[]
[]
[null,null,null,null,{"$f":"入力シート!D27&\"\"","v":""},null,null,null,null,null," ）"]
[11,"基準値","設計アスファルト量",null,null,null,{"$f":"入力シート!F28&\"\"","v":""},null,null,null,"％","密　度",null,null,{"$f":"入力シート!F29&\"\"","v":""},null,null,null,"g/㎤"]
[null,null,"通過重量百分率\n（粒度）",null,null,null,"2.36mm\n通過分",null,null,{"$f":"入力シート!F30&\"\"","v":""},null,null,"％","0.075mm\n通過分",null,{"$f":"入力シート!F31&\"\"","v":""},null,null,"％"]
[12,"備　考","舗装\n面積",{"$f":"入力シート!F32&\"\"","v":""},null,"㎡",{"$f":"入力シート!C33&\"\"","v":""}]
[13," アスファルト試験項目",null,null,null,null,null,null,null,null,null,null,null,false]
[null,"試験名",null,"整理\n番号","単位","単価",null,"件数",null,"試験名",null,null,null,"整理\n番号","単位","単価",null,"件数"]
[null," ①アスファルトコア\n　 密度試験",null,31,"１個","1,680円",null,{"$f":"入力シート!G34&\"\"","v":""},null," ③その他\n　 （再 交 付）",null,null,null,51,"件","300円",null,{"$f":"入力シート!G38&\"\"","v":""}]
[null," ②アスファルト抽出試験\n　　（ふるい分け含む）",null,32,"１個","14,310円",null,{"$f":"入力シート!G36&\"\"","v":""}]
[14,"通知方法"]
[null,null,null,null,null,null,null,null,null,null,null,null,null,null,{"$f":"入力シート!J40","v":0}]

{"sheet":"アスファルト_5成績書","index":6,"n_rows":31,"n_cols":19,"rows_kept":31,"cut":false,"hidden":false,"merged":[[24,3,24,4],[24,6,24,18],[0,12,0,18],[4,1,4,6],[6,0,10,0],[6,1,7,1],[6,3,6,5],[6,6,6,18],[7,2,7,18],[8,2,8,18],[9,1,10,1],[9,2,10,7],[9,8,10,11],[9,13,9,18],[10,13,10,18],[11,2,11,16],[11,17,11,18],[12,2,12,4],[12,6,12,18],[13,2,13,18],[14,2,14,7],[14,9,14,11],[14,12,14,18],[15,2,15,18],[16,2,16,18],[17,2,17,4],[17,5,17,6],[17,9,17,11],[17,12,17,18],[23,9,23,11],[23,13,23,14],[18,0,21,0],[18,1,21,1],[18,2,20,18],[21,2,21,3],[21,4,21,9],[21,10,21,18],[30,14,30,18],[4,8,4,17],[26,15,26,16],[26,17,26,18],[27,1,27,2],[27,5,27,6],[27,7,27,8],[27,9,28,12],[27,13,28,13],[27,14,28,14],[27,15,28,16],[27,17,28,18],[23,15,23,17],[22,14,22,17],[23,2,23,5],[23,6,23,8],[2,0,3,18],[28,1,28,2],[28,5,28,6],[28,7,28,8],[29,2,29,18],[25,0,28,0],[25,1,25,18],[26,1,26,2],[26,5,26,6],[26,7,26,8],[26,9,26,12],[22,0,23,0],[22,1,23,1],[22,2,22,5],[22,6,22,9],[22,11,22,13]]}
[null,null,null,null,null,null,null,null,null,null,null,null,"（成 績 書）"]
[]
["建 設 材 料 試 験 成 績 書\n（アスファルト試験用）"]
[]
[null,"※試験結果は添付しています。",null,null,null,null,null,null,"北九州市長　武 内 和 久"]
[]
["申　込　者","住　所","〒",{"$f":"TEXT(入力シート!C8,\"###-####\")","v":"-"}]
[null,null,{"$f":"入力シート!C9&\"\"","v":""}]
[null,"会社名",{"$f":"入力シート!C10&\"\"","v":""}]
[null,"担当者",{"$f":"入力シート!C11:H11&\"\"","v":""},null,null,null,null,null,"連絡先",null,null,null,null,{"$f":"入力シート!C12&\"\"","v":""}]
[null,null,null,null,null,null,null,null,null,null,null,null,null,{"$f":"入力シート!C13&\"\"","v":""}]
[1,"工事名",{"$f":"入力シート!C15:G15&\"\"","v":""},null,null,null,null,null,null,null,null,null,null,null,null,null,null,"工事"]
[2,"工事場所",{"$f":"入力シート!C16&\"\"","v":""},null,null,"区",{"$f":"入力シート!E16&\"\"","v":""}]
[3,"工事監督課",{"$f":"入力シート!C17&\"\"","v":""}]
[4,"監督員",{"$f":"入力シート!C18:H18&\"\"","v":""},null,null,null,null,null,5,"工　種",null,null,{"$f":"入力シート!C19&\"\"","v":""}]
[6,"製造業者",{"$f":"入力シート!C20&\"\"","v":""}]
[7,"資料採取個所",{"$f":"入力シート!C21&\"\"","v":""}]
[8,"舗設日",{"$f":"入力シート!C22&\"\"","v":""},null,null,{"$f":"入力シート!F22&\"\"","v":""},null,"個",9,"材　質"]
[10,"アスファルト\n種　　類"]
[]
[]
[null,null,null,null,{"$f":"入力シート!D27&\"\"","v":""},null,null,null,null,null," ）"]
[11,"基準値","設計アスファルト量",null,null,null,{"$f":"入力シート!F28&\"\"","v":""},null,null,null,"％","密　度",null,null,{"$f":"入力シート!F29&\"\"","v":""},null,null,null,"g/㎤"]
[null,null,"通過重量百分率\n（粒度）",null,null,null,"2.36mm\n通過分",null,null,{"$f":"入力シート!F30&\"\"","v":""},null,null,"％","0.075mm\n通過分",null,{"$f":"入力シート!F31&\"\"","v":""},null,null,"％"]
[12,"備　考","舗装\n面積",{"$f":"入力シート!F32&\"\"","v":""},null,"㎡",{"$f":"入力シート!C33&\"\"","v":""}]
[13," アスファルト試験項目",null,null,null,null,null,null,null,null,null,null,null,false]
[null,"試験名",null,"整理\n番号","単位","単価",null,"件数",null,"試験名",null,null,null,"整理\n番号","単位","単価",null,"件数"]
[null," ①アスファルトコア\n　 密度試験",null,31,"１個","1,680円",null,{"$f":"入力シート!G34&\"\"","v":""},null," ③その他\n　 （再 交 付）",null,null,null,51,"件","300円",null,{"$f":"入力シート!G38&\"\"","v":""}]
[null," ②アスファルト抽出試験\n　　（ふるい分け含む）",null,32,"１個","14,310円",null,{"$f":"入力シート!G36&\"\"","v":""}]
[14,"通知方法"]
[null,null,null,null,null,null,null,null,null,null,null,null,null,null,{"$f":"入力シート!J40","v":0}]

{"sheet":"link","index":7,"n_rows":3,"n_cols":5,"rows_kept":3,"cut":false,"hidden":false,"merged":[[2,1,3,1]]}
[]
[null,null,"伺"]
[null,"月　日","担 当","係 長","課 長"]