{"text_format":"1","workbook":"xlsx","n_sheets":8,"sheets":["入力シート","入力例","土質_1正","土質_2副","土質_3試験担当","土質_4申込者控","土質_5成績書","link"],"not_rendered":{"charts":0,"images":2,"macros":0,"external_links":0,"defined_names":7,"comments":0,"pivot_tables":0},"unopened":[],"bounds":{"document_bytes":16777216,"sheet_cells":100000,"rows_first":2000,"rows_last":500,"rows_between":2000,"halvings":0,"cell_chars":16384,"cell_head_chars":4096},"cells_cut":0,"cells_raw":0,"read":"whole","date_system":"1900"}

{"sheet":"入力シート","index":0,"n_rows":42,"n_cols":14,"rows_kept":42,"cut":false,"hidden":false,"merged":[[22,2,22,7],[7,0,12,0],[14,2,14,6],[12,2,12,7],[11,2,11,7],[15,4,15,7],[8,2,8,7],[0,11,1,15],[17,2,17,7],[18,2,18,7],[19,2,19,7],[0,1,0,10],[11,8,11,10],[10,8,10,10],[9,8,9,10],[8,8,8,10],[7,8,7,10],[6,8,6,10],[9,2,9,7],[10,2,10,7],[1,1,1,10],[6,2,6,7],[7,2,7,7],[23,0,37,0],[23,8,24,8],[23,1,37,1],[35,2,36,5],[31,2,32,5],[35,6,36,6],[35,7,36,7],[35,8,36,8],[31,7,32,7],[31,8,32,8],[33,2,34,5],[31,6,32,6],[29,2,30,5],[33,8,34,8],[27,2,28,5],[27,8,28,8],[38,8,38,10],[37,2,37,8],[18,8,18,10],[17,8,17,10],[15,8,15,10],[16,2,16,7],[16,8,16,10],[22,8,22,10],[23,10,24,10],[23,9,24,9],[33,6,34,6],[33,7,34,7],[35,9,36,9],[35,10,36,10],[27,6,28,6],[27,7,28,7],[14,8,14,10],[12,8,12,10],[19,8,19,10],[21,8,21,10],[25,2,26,5],[25,6,26,6],[25,7,26,7],[25,8,26,8],[25,9,26,9],[25,10,26,10],[23,7,24,7],[23,6,24,6],[23,2,24,5],[20,2,20,7],[21,2,21,7],[20,8,20,10],[27,9,28,9],[33,9,34,9],[33,10,34,10],[31,9,32,9],[31,10,32,10],[27,10,28,10],[29,6,30,6],[29,7,30,7],[29,8,30,8],[29,9,30,9],[29,10,30,10]]}
[null,"建設材料試験申込書 入力シート",null,null,null,null,null,null,null,null,null,"　各シートの印刷は、入力シートの下に\n　一括印刷ボタンがあります。"]
[null," （土質試験用：ただし、一軸圧縮試験は除く）"]
[]
[null,"●赤い欄内に入力、またはチェックボックスにチェックを入れてください。"]
[null,"●英数字は半角で入力ください。"]
[]
[null,"項　目","記　入　欄",null,null,null,null,null,"備考"]
["申込者","〒",null,null,null,null,null,null,"※「-」を入れる"]
[null,"住　所"]
[null,"会社名"]
[null,"担当者"]
[null,"連絡先①",null,null,null,null,null,null,"※「-」を入れる"]
[null,"連絡先②",null,null,null,null,null,null,"※連絡先は携帯、１件のみでも可"]
[]
[1,"工事名",null,null,null,null,null,"工事"]
[2,"工事場所",null,"区",null,null,null,null,"※町名までを記入"]
[3,"工事監督課",null,null,null,null,null,null,"（記入例）\n都市整備局　東部整備事務所　工務第一課\n上下水道局 西部工事事務所 下水道課\n若松区役所　まちづくり整備課"]
[4,"監督員"]
[5,"工　種"]
[6,"使用部分"]
[7,"使用材料"]
[8,"製造業者\n及び産地等"]
[9,"備　考"]
[10,"土質試験項目","①土粒子の比重試験　（試験不可）\n　　　整理番号: ０１／ 単位: １試料／ 単価: 6,310円",null,null,null,null,"件","計",{"$f":"G24*6310","v":0},"円"]
[]
[null,null,"②土の含水比試験\n　　　整理番号: ０２／ 単位: １試料／ 単価: 2,580円",null,null,null,null,"件","計",{"$f":"G26*2580","v":0},"円"]
[]
[null,null,"③土の粒度試験　（試験不可）\n　　　整理番号: ０３／ 単位: １試料／ 単価: 13,170円",null,null,null,null,"件","計",{"$f":"G28*13170","v":0},"円"]
[]
[null,null,"⑥土の室内ＣＢＲ試験\n　　　整理番号: ０６／ 単位: １試料／ 単価: 26,970円",null,null,null,null,"件","計",{"$f":"G30* 26970","v":0},"円"]
[]
[null,null,"⑦土の修正ＣＢＲ試験　（試験不可）\n　　　整理番号: ０７／ 単位: １試料／ 単価: 49,130円",null,null,null,null,"件","計",{"$f":"G32*49130","v":0},"円"]
[]
[null,null,"⑧土の突き固め試験\n　　　整理番号: ０８／ 単位: １試料／ 単価: 19,730円",null,null,null,null,"件","計",{"$f":"G34*19730","v":0},"円"]
[]
[null,null,"⑨その他（再交付）\n　　　整理番号: ５１／ 単位: 件／ 単価:　 300円",null,null,null,null,"件","計",{"$f":"G36*300","v":0},"円"]
[]
[null,null,"手数料合計",null,null,null,null,null,null,{"$f":"SUM(J24:J37)","v":0},"円",null,"試験場",false]
[11,"通知方法",null,null,null,null,null,null,null,null,null,null,"郵送",false]
[]
[null,null,null,null,null,null,"印刷プレビュー画面に移動します。"]
[null,null,null,null,null,null,"そこで左上の「印刷」ボタンを押すと各シートを印刷します。"]

{"sheet":"入力例","index":1,"n_rows":39,"n_cols":11,"rows_kept":39,"cut":false,"hidden":false,"merged":[[7,0,12,0],[7,2,7,7],[7,8,7,10],[8,2,8,7],[8,8,8,10],[9,2,9,7],[9,8,9,10],[10,2,10,7],[10,8,10,10],[11,2,11,7],[11,8,11,10],[12,2,12,7],[12,8,12,10],[0,1,0,10],[0,11,1,15],[1,1,1,10],[6,2,6,7],[6,8,6,10],[14,2,14,6],[14,8,14,10],[15,4,15,7],[15,8,15,10],[16,2,16,7],[16,8,16,10],[17,2,17,7],[17,8,17,10],[18,2,18,7],[18,8,18,10],[19,2,19,7],[19,8,19,10],[20,2,20,7],[20,8,20,10],[21,2,21,7],[21,8,21,10],[25,10,26,10],[22,2,22,7],[22,8,22,10],[23,8,24,8],[23,9,24,9],[23,10,24,10],[25,8,26,8],[25,9,26,9],[27,10,28,10],[23,0,37,0],[23,1,37,1],[23,2,24,5],[23,6,24,6],[23,7,24,7],[25,2,26,5],[25,6,26,6],[25,7,26,7],[37,2,37,8],[27,2,28,5],[27,6,28,6],[27,7,28,7],[27,8,28,8],[27,9,28,9],[29,10,30,10],[29,2,30,5],[29,6,30,6],[29,7,30,7],[29,8,30,8],[29,9,30,9],[33,10,34,10],[31,2,32,5],[31,6,32,6],[31,7,32,7],[31,8,32,8],[31,9,32,9],[31,10,32,10],[33,2,34,5],[33,6,34,6],[33,7,34,7],[33,8,34,8],[33,9,34,9],[38,8,38,10],[35,2,36,5],[35,6,36,6],[35,7,36,7],[35,8,36,8],[35,9,36,9],[35,10,36,10]]}
[null,"【入力例】　建設材料試験申込書 入力シート"]
[null," （土質試験用：ただし、一軸圧縮試験は除く）"]
[]
[null,"●赤い欄内に入力、またはチェックボックスにチェックを入れてください。"]
[null,"●英数字は半角で入力ください。"]
[]
[null,"項　目","記　入　欄",null,null,null,null,null,"備考"]
["申込者","〒","803-8501",null,null,null,null,null,"※「-」を入れる"]
[null,"住　所","北九州市小倉北区〇〇□□"]
[null,"会社名","株式会社　〇□"]
[null,"担当者","北九州　太郎"]
[null,"連絡先①","090-1111-2222",null,null,null,null,null,"※「-」を入れる"]
[null,"連絡先②","093-000-1234",null,null,null,null,null,"※連絡先は携帯、１件のみでも可"]
[]
[1,"工事名","〇△□",null,null,null,null,"工事"]
[2,"工事場所","小倉南","区","△△町",null,null,null,"※町名までを記入"]
[3,"工事監督課","建設局　東部整備事務所　工務第一課",null,null,null,null,null,"（記入例）\n都市整備局　東部整備事務所　工務第一課\n上下水道局 西部工事事務所 下水道課\n若松区役所　まちづくり整備課"]
[4,"監督員","北九　花子"]
[5,"工　種","路体盛土工"]
[6,"使用部分","〇△□"]
[7,"使用材料","〇△□"]
[8,"製造業者\n及び産地等","〇〇〇株式会社"]
[9,"備　考"]
[10,"土質試験項目","①土粒子の比重試験　（試験不可）\n　　　整理番号: ０１／ 単位: １試料／ 単価: 6,310円",null,null,null,null,"件","計",{"$f":"G24*6310","v":0},"円"]
[]
[null,null,"②土の含水比試験\n　　　整理番号: ０２／ 単位: １試料／ 単価: 2,580円",null,null,null,1,"件","計",{"$f":"G26*2580","v":2580},"円"]
[]
[null,null,"③土の粒度試験　（試験不可）\n　　　整理番号: ０３／ 単位: １試料／ 単価: 13,170円",null,null,null,null,"件","計",{"$f":"G28*13170","v":0},"円"]
[]
[null,null,"⑥土の室内ＣＢＲ試験\n　　　整理番号: ０６／ 単位: １試料／ 単価: 26,970円",null,null,null,1,"件","計",{"$f":"G30*26970","v":26970},"円"]
[]
[null,null,"⑦土の修正ＣＢＲ試験　（試験不可）\n　　　整理番号: ０７／ 単位: １試料／ 単価: 49,130円",null,null,null,null,"件","計",{"$f":"G32*49130","v":0},"円"]
[]
[null,null,"⑧土の突き固め試験\n　　　整理番号: ０８／ 単位: １試料／ 単価: 19,730円",null,null,null,1,"件","計",{"$f":"G34*19730","v":19730},"円"]
[]
[null,null,"⑨その他（再交付）\n　　　整理番号: ５１／ 単位: 件／ 単価:　 300円",null,null,null,null,"件","計",{"$f":"G36*300","v":0},"円"]
[]
[null,null,"手数料合計",null,null,null,null,null,null,{"$f":"SUM(J24:J37)","v":49280},"円"]
[11,"通知方法"]

{"sheet":"土質_1正","index":2,"n_rows":26,"n_cols":18,"rows_kept":26,"cut":false,"hidden":false,"merged":[[12,2,12,4],[15,2,15,7],[14,2,14,7],[14,12,14,18],[14,9,14,11],[12,6,12,18],[15,9,15,11],[15,12,15,18],[18,0,23,0],[18,1,18,18],[19,1,19,2],[19,7,19,8],[19,5,19,6],[20,1,20,2],[20,5,20,6],[20,7,20,8],[20,9,20,12],[20,15,20,16],[20,17,20,18],[21,15,21,16],[21,17,21,18],[22,1,22,2],[23,17,23,18],[23,1,23,8],[0,15,0,18],[11,17,11,18],[11,2,11,16],[6,3,6,5],[2,0,2,18],[7,2,7,18],[6,1,7,1],[6,0,10,0],[9,1,10,1],[9,8,10,11],[8,2,8,18],[9,2,10,7],[4,1,4,6],[6,6,6,18],[10,13,10,18],[9,13,9,18],[24,2,24,18],[25,14,25,18],[19,9,19,12],[17,2,17,18],[19,17,19,18],[19,15,19,16],[22,17,22,18],[21,1,21,2],[21,5,21,6],[21,7,21,8],[21,9,21,12],[23,9,23,12],[23,15,23,16],[16,2,16,18],[13,2,13,18],[22,5,22,6],[22,7,22,8],[22,9,22,12],[22,15,22,16]]}
[null,null,null,null,null,null,null,null,null,null,null,null,null,null,null,"（正）"]
[]
["建 設 材 料 試 験 申 込 書\n（土質試験用：ただし、一軸圧縮試験は除く）"]
[]
[null,"北九州市長　武 内 和 久 様"]
[]
["申　込　者","住　所","〒",{"$f":"TEXT(入力シート!C8,\"###-####\")","v":"-"}]
[null,null,{"$f":"入力シート!C9&\"\"","v":""}]
[null,"会社名",{"$f":"入力シート!C10&\"\"","v":""}]
[null,"担当者",{"$f":"入力シート!C11&\"\"","v":""},null,null,null,null,null,"連絡先",null,null,null,null,{"$f":"入力シート!C12&\"\"","v":""}]
[null,null,null,null,null,null,null,null,null,null,null,null,null,{"$f":"入力シート!C13&\"\"","v":""}]
[1,"工事名",{"$f":"入力シート!C15&\"\"","v":""},null,null,null,null,null,null,null,null,null,null,null,null,null,null,"工事"]
[2,"工事場所",{"$f":"入力シート!C16&\"\"","v":""},null,null,"区",{"$f":"入力シート!E16&\"\"","v":""}]
[3,"工事監督課",{"$f":"入力シート!C17&\"\"","v":""}]
[4,"監督員",{"$f":"入力シート!C18&\"\"","v":""},null,null,null,null,null,5,"工　種",null,null,{"$f":"入力シート!C19&\"\"","v":""}]
[6,"使用部分",{"$f":"入力シート!C20&\"\"","v":""},null,null,null,null,null,7,"使用材料",null,null,{"$f":"入力シート!C21&\"\"","v":""}]
[8,"製造業者\n及び産地等",{"$f":"入力シート!C22&\"\"","v":""}]
[9,"備　考",{"$f":"入力シート!C23&\"\"","v":""}]
[10," 土質試験項目"]
[null,"試験名",null,"整理\n番号","単位","単価",null,"件数",null,"試験名",null,null,null,"整理\n番号","単位","単価",null,"件数"]
[null," ①土粒子の比重試験",null,"01","１\n試料","6,310円",null,{"$f":"入力シート!G24&\"\"","v":""},null," ⑥土の室内\n　 ＣＢＲ試験",null,null,null,"06","１\n試料","26,970円",null,{"$f":"入力シート!G30&\"\"","v":""}]
[null," ②土の含水比試験",null,"02","１\n試料","2,580円",null,{"$f":"入力シート!G26&\"\"","v":""},null," ⑦土の修正\n　 ＣＢＲ試験",null,null,null,"07","１\n試料","49,130円",null,{"$f":"入力シート!G32&\"\"","v":""}]
[null," ③土の粒度試験",null,"03","１\n試料","13,170円",null,{"$f":"入力シート!G28&\"\"","v":""},null," ⑧土の\n　 突き固め試験",null,null,null,"08","１\n試料","19,730円",null,{"$f":"入力シート!G34&\"\"","v":""}]
[null,null,null,null,null,null,null,null,null," ⑨その他\n　　（再 交 付）",null,null,null,51,"件","300円",null,{"$f":"入力シート!G36&\"\"","v":""}]
[11,"通知方法"]
[null,null,null,null,null,null,null,null,null,null,null,null,null,null,{"$f":"入力シート!J38","v":0}]

{"sheet":"土質_2副","index":3,"n_rows":26,"n_cols":18,"rows_kept":26,"cut":false,"hidden":false,"merged":[[0,15,0,18],[2,0,2,18],[4,1,4,6],[6,0,10,0],[6,1,7,1],[6,3,6,5],[6,6,6,18],[7,2,7,18],[8,2,8,18],[9,1,10,1],[9,2,10,7],[9,8,10,11],[9,13,9,18],[10,13,10,18],[11,2,11,16],[11,17,11,18],[12,2,12,4],[12,6,12,18],[13,2,13,18],[18,0,23,0],[18,1,18,18],[19,1,19,2],[19,5,19,6],[19,7,19,8],[19,9,19,12],[19,15,19,16],[19,17,19,18],[20,9,20,12],[20,15,20,16],[20,5,20,6],[20,7,20,8],[23,1,23,8],[14,2,14,7],[14,9,14,11],[14,12,14,18],[15,2,15,7],[15,9,15,11],[15,12,15,18],[16,2,16,18],[17,2,17,18],[20,17,20,18],[22,17,22,18],[21,1,21,2],[21,5,21,6],[21,7,21,8],[21,9,21,12],[21,15,21,16],[21,17,21,18],[22,1,22,2],[22,5,22,6],[22,7,22,8],[22,9,22,12],[22,15,22,16],[20,1,20,2],[25,14,25,18],[23,15,23,16],[23,17,23,18],[24,2,24,18],[23,9,23,12]]}
[null,null,null,null,null,null,null,null,null,null,null,null,null,null,null,"（副）"]
[]
["建 設 材 料 試 験 申 込 書\n（土質試験用：ただし、一軸圧縮試験は除く）"]
[]
[null,"北九州市長　武 内 和 久 様"]
[]
["申　込　者","住　所","〒",{"$f":"TEXT(入力シート!C8,\"###-####\")","v":"-"}]
[null,null,{"$f":"入力シート!C9&\"\"","v":""}]
[null,"会社名",{"$f":"入力シート!C10&\"\"","v":""}]
[null,"担当者",{"$f":"入力シート!C11&\"\"","v":""},null,null,null,null,null,"連絡先",null,null,null,null,{"$f":"入力シート!C12&\"\"","v":""}]
[null,null,null,null,null,null,null,null,null,null,null,null,null,{"$f":"入力シート!C13&\"\"","v":""}]
[1,"工事名",{"$f":"入力シート!C15&\"\"","v":""},null,null,null,null,null,null,null,null,null,null,null,null,null,null,"工事"]
[2,"工事場所",{"$f":"入力シート!C16&\"\"","v":""},null,null,"区",{"$f":"入力シート!E16&\"\"","v":""}]
[3,"工事監督課",{"$f":"入力シート!C17&\"\"","v":""}]
[4,"監督員",{"$f":"入力シート!C18&\"\"","v":""},null,null,null,null,null,5,"工　種",null,null,{"$f":"入力シート!C19&\"\"","v":""}]
[6,"使用部分",{"$f":"入力シート!C20&\"\"","v":""},null,null,null,null,null,7,"使用材料",null,null,{"$f":"入力シート!C21&\"\"","v":""}]
[8,"製造業者\n及び産地等",{"$f":"入力シート!C22&\"\"","v":""}]
[9,"備　考",{"$f":"入力シート!C23&\"\"","v":""}]
[10," 土質試験項目"]
[null,"試験名",null,"整理\n番号","単位","単価",null,"件数",null,"試験名",null,null,null,"整理\n番号","単位","単価",null,"件数"]
[null," ①土粒子の比重試験",null,"01","１\n試料","6,310円",null,{"$f":"入力シート!G24&\"\"","v":""},null," ⑥土の室内\n　 ＣＢＲ試験",null,null,null,"06","１\n試料","26,970円",null,{"$f":"入力シート!G30&\"\"","v":""}]
[null," ②土の含水比試験",null,"02","１\n試料","2,580円",null,{"$f":"入力シート!G26&\"\"","v":""},null," ⑦土の修正\n　 ＣＢＲ試験",null,null,null,"07","１\n試料","49,130円",null,{"$f":"入力シート!G32&\"\"","v":""}]
[null," ③土の粒度試験",null,"03","１\n試料","13,170円",null,{"$f":"入力シート!G28&\"\"","v":""},null," ⑧土の\n　 突き固め試験",null,null,null,"08","１\n試料","19,730円",null,{"$f":"入力シート!G34&\"\"","v":""}]
[null,null,null,null,null,null,null,null,null," ⑨その他\n　　（再 交 付）",null,null,null,51,"件","300円",null,{"$f":"入力シート!G36&\"\"","v":""}]
[11,"通知方法"]
[null,null,null,null,null,null,null,null,null,null,null,null,null,null,{"$f":"入力シート!J38","v":0}]

{"sheet":"土質_3試験担当","index":4,"n_rows":26,"n_cols":18,"rows_kept":26,"cut":false,"hidden":false,"merged":[[2,0,2,18],[4,1,4,6],[6,0,10,0],[6,1,7,1],[6,3,6,5],[6,6,6,18],[7,2,7,18],[8,2,8,18],[9,1,10,1],[9,2,10,7],[9,8,10,11],[9,13,9,18],[10,13,10,18],[11,2,11,16],[11,17,11,18],[12,2,12,4],[12,6,12,18],[13,2,13,18],[14,2,14,7],[14,9,14,11],[14,12,14,18],[18,0,23,0],[18,1,18,18],[19,1,19,2],[19,5,19,6],[19,7,19,8],[15,2,15,7],[15,9,15,11],[15,12,15,18],[16,2,16,18],[17,2,17,18],[19,9,19,12],[19,15,19,16],[19,17,19,18],[22,9,22,12],[22,15,22,16],[22,17,22,18],[21,17,21,18],[20,1,20,2],[20,5,20,6],[20,7,20,8],[20,9,20,12],[20,15,20,16],[23,1,23,8],[25,14,25,18],[0,12,0,18],[23,15,23,16],[23,17,23,18],[24,2,24,18],[23,9,23,12],[22,1,22,2],[22,5,22,6],[21,1,21,2],[21,5,21,6],[21,7,21,8],[21,9,21,12],[21,15,21,16],[20,17,20,18],[22,7,22,8]]}
[null,null,null,null,null,null,null,null,null,null,null,null,"（試験担当）"]
[]
["建 設 材 料 試 験 申 込 書\n（土質試験用：ただし、一軸圧縮試験は除く）"]
[]
[null,"北九州市長　武 内 和 久 様"]
[]
["申　込　者","住　所","〒",{"$f":"TEXT(入力シート!C8,\"###-####\")","v":"-"}]
[null,null,{"$f":"入力シート!C9&\"\"","v":""}]
[null,"会社名",{"$f":"入力シート!C10&\"\"","v":""}]
[null,"担当者",{"$f":"入力シート!C11&\"\"","v":""},null,null,null,null,null,"連絡先",null,null,null,null,{"$f":"入力シート!C12&\"\"","v":""}]
[null,null,null,null,null,null,null,null,null,null,null,null,null,{"$f":"入力シート!C13&\"\"","v":""}]
[1,"工事名",{"$f":"入力シート!C15&\"\"","v":""},null,null,null,null,null,null,null,null,null,null,null,null,null,null,"工事"]
[2,"工事場所",{"$f":"入力シート!C16&\"\"","v":""},null,null,"区",{"$f":"入力シート!E16&\"\"","v":""}]
[3,"工事監督課",{"$f":"入力シート!C17&\"\"","v":""}]
[4,"監督員",{"$f":"入力シート!C18&\"\"","v":""},null,null,null,null,null,5,"工　種",null,null,{"$f":"入力シート!C19&\"\"","v":""}]
[6,"使用部分",{"$f":"入力シート!C20&\"\"","v":""},null,null,null,null,null,7,"使用材料",null,null,{"$f":"入力シート!C21&\"\"","v":""}]
[8,"製造業者\n及び産地等",{"$f":"入力シート!C22&\"\"","v":""}]
[9,"備　考",{"$f":"入力シート!C23&\"\"","v":""}]
[10," 土質試験項目"]
[null,"試験名",null,"整理\n番号","単位","単価",null,"件数",null,"試験名",null,null,null,"整理\n番号","単位","単価",null,"件数"]
[null," ①土粒子の比重試験",null,"01","１\n試料","6,310円",null,{"$f":"入力シート!G24&\"\"","v":""},null," ⑥土の室内\n　 ＣＢＲ試験",null,null,null,"06","１\n試料","26,970円",null,{"$f":"入力シート!G30&\"\"","v":""}]
[null," ②土の含水比試験",null,"02","１\n試料","2,580円",null,{"$f":"入力シート!G26&\"\"","v":""},null," ⑦土の修正\n　 ＣＢＲ試験",null,null,null,"07","１\n試料","49,130円",null,{"$f":"入力シート!G32&\"\"","v":""}]
[null," ③土の粒度試験",null,"03","１\n試料","13,170円",null,{"$f":"入力シート!G28&\"\"","v":""},null," ⑧土の\n　 突き固め試験",null,null,null,"08","１\n試料","19,730円",null,{"$f":"入力シート!G34&\"\"","v":""}]
[null,null,null,null,null,null,null,null,null," ⑨その他\n　　（再 交 付）",null,null,null,51,"件","300円",null,{"$f":"入力シート!G36&\"\"","v":""}]
[11,"通知方法"]
[null,null,null,null,null,null,null,null,null,null,null,null,null,null,{"$f":"入力シート!J38","v":0}]

{"sheet":"土質_4申込者控","index":5,"n_rows":26,"n_cols":18,"rows_kept":26,"cut":false,"hidden":false,"merged":[[0,12,0,18],[2,0,2,18],[4,1,4,6],[6,0,10,0],[6,1,7,1],[6,3,6,5],[6,6,6,18],[7,2,7,18],[8,2,8,18],[9,1,10,1],[9,2,10,7],[9,8,10,11],[9,13,9,18],[10,13,10,18],[11,2,11,16],[11,17,11,18],[12,2,12,4],[12,6,12,18],[13,2,13,18],[18,0,23,0],[18,1,18,18],[19,1,19,2],[19,5,19,6],[19,7,19,8],[19,9,19,12],[19,15,19,16],[19,17,19,18],[20,9,20,12],[20,15,20,16],[20,5,20,6],[20,7,20,8],[14,2,14,7],[14,9,14,11],[14,12,14,18],[15,2,15,7],[15,9,15,11],[15,12,15,18],[16,2,16,18],[17,2,17,18],[20,17,20,18],[22,17,22,18],[21,1,21,2],[21,5,21,6],[21,7,21,8],[21,9,21,12],[21,15,21,16],[21,17,21,18],[22,1,22,2],[22,5,22,6],[22,7,22,8],[22,9,22,12],[22,15,22,16],[20,1,20,2],[25,14,25,18],[23,15,23,16],[23,17,23,18],[24,2,24,18],[23,9,23,12],[23,1,23,8]]}
[null,null,null,null,null,null,null,null,null,null,null,null,"（申込者控）"]
[]
["建 設 材 料 試 験 申 込 書\n（土質試験用：ただし、一軸圧縮試験は除く）"]
[]
[null,"北九州市長　武 内 和 久 様"]
[]
["申　込　者","住　所","〒",{"$f":"TEXT(入力シート!C8,\"###-####\")","v":"-"}]
[null,null,{"$f":"入力シート!C9&\"\"","v":""}]
[null,"会社名",{"$f":"入力シート!C10&\"\"","v":""}]
[null,"担当者",{"$f":"入力シート!C11&\"\"","v":""},null,null,null,null,null,"連絡先",null,null,null,null,{"$f":"入力シート!C12&\"\"","v":""}]
[null,null,null,null,null,null,null,null,null,null,null,null,null,{"$f":"入力シート!C13&\"\"","v":""}]
[1,"工事名",{"$f":"入力シート!C15&\"\"","v":""},null,null,null,null,null,null,null,null,null,null,null,null,null,null,"工事"]
[2,"工事場所",{"$f":"入力シート!C16&\"\"","v":""},null,null,"区",{"$f":"入力シート!E16&\"\"","v":""}]
[3,"工事監督課",{"$f":"入力シート!C17&\"\"","v":""}]
[4,"監督員",{"$f":"入力シート!C18&\"\"","v":""},null,null,null,null,null,5,"工　種",null,null,{"$f":"入力シート!C19&\"\"","v":""}]
[6,"使用部分",{"$f":"入力シート!C20&\"\"","v":""},null,null,null,null,null,7,"使用材料",null,null,{"$f":"入力シート!C21&\"\"","v":""}]
[8,"製造業者\n及び産地等",{"$f":"入力シート!C22&\"\"","v":""}]
[9,"備　考",{"$f":"入力シート!C23&\"\"","v":""}]
[10," 土質試験項目"]
[null,"試験名",null,"整理\n番号","単位","単価",null,"件数",null,"試験名",null,null,null,"整理\n番号","単位","単価",null,"件数"]
[null," ①土粒子の比重試験",null,"01","１\n試料","6,310円",null,{"$f":"入力シート!G24&\"\"","v":""},null," ⑥土の室内\n　 ＣＢＲ試験",null,null,null,"06","１\n試料","26,970円",null,{"$f":"入力シート!G30&\"\"","v":""}]
[null," ②土の含水比試験",null,"02","１\n試料","2,580円",null,{"$f":"入力シート!G26&\"\"","v":""},null," ⑦土の修正\n　 ＣＢＲ試験",null,null,null,"07","１\n試料","49,130円",null,{"$f":"入力シート!G32&\"\"","v":""}]
[null," ③土の粒度試験",null,"03","１\n試料","13,170円",null,{"$f":"入力シート!G28&\"\"","v":""},null," ⑧土の\n　 突き固め試験",null,null,null,"08","１\n試料","19,730円",null,{"$f":"入力シート!G34&\"\"","v":""}]
[null,null,null,null,null,null,null,null,null," ⑨その他\n　　（再 交 付）",null,null,null,51,"件","300円",null,{"$f":"入力シート!G36&\"\"","v":""}]
[11,"通知方法"]
[null,null,null,null,null,null,null,null,null,null,null,null,null,null,{"$f":"入力シート!J38","v":0}]

{"sheet":"土質_5成績書","index":6,"n_rows":26,"n_cols":18,"rows_kept":26,"cut":false,"hidden":false,"merged":[[0,12,0,18],[2,0,2,18],[4,1,4,6],[6,0,10,0],[6,1,7,1],[6,3,6,5],[6,6,6,18],[7,2,7,18],[8,2,8,18],[9,1,10,1],[9,2,10,7],[9,8,10,11],[9,13,9,18],[10,13,10,18],[11,2,11,16],[11,17,11,18],[12,2,12,4],[12,6,12,18],[13,2,13,18],[14,2,14,7],[14,9,14,11],[14,12,14,18],[18,0,23,0],[18,1,18,18],[19,1,19,2],[19,5,19,6],[19,7,19,8],[15,2,15,7],[15,9,15,11],[15,12,15,18],[16,2,16,18],[17,2,17,18],[19,9,19,12],[19,15,19,16],[19,17,19,18],[22,9,22,12],[22,15,22,16],[22,17,22,18],[21,17,21,18],[20,1,20,2],[20,5,20,6],[20,7,20,8],[20,9,20,12],[20,15,20,16],[23,1,23,8],[25,14,25,18],[4,8,4,17],[23,15,23,16],[23,17,23,18],[24,2,24,18],[23,9,23,12],[22,1,22,2],[22,5,22,6],[21,1,21,2],[21,5,21,6],[21,7,21,8],[21,9,21,12],[21,15,21,16],[20,17,20,18],[22,7,22,8]]}
[null,null,null,null,null,null,null,null,null,null,null,null,"（成 績 書）"]
[]
["建 設 材 料 試 験 成 績 書\n（土質試験用：ただし、一軸圧縮試験は除く）"]
[]
[null,"※試験結果は添付しています。",null,null,null,null,null,null,"北九州市長　武 内 和 久"]
[]
["申　込　者","住　所","〒",{"$f":"TEXT(入力シート!C8,\"###-####\")","v":"-"}]
[null,null,{"$f":"入力シート!C9&\"\"","v":""}]
[null,"会社名",{"$f":"入力シート!C10&\"\"","v":""}]
[null,"担当者",{"$f":"入力シート!C11&\"\"","v":""},null,null,null,null,null,"連絡先",null,null,null,null,{"$f":"入力シート!C12&\"\"","v":""}]
[null,null,null,null,null,null,null,null,null,null,null,null,null,{"$f":"入力シート!C13&\"\"","v":""}]
[1,"工事名",{"$f":"入力シート!C15&\"\"","v":""},null,null,null,null,null,null,null,null,null,null,null,null,null,null,"工事"]
[2,"工事場所",{"$f":"入力シート!C16&\"\"","v":""},null,null,"区",{"$f":"入力シート!E16&\"\"","v":""}]
[3,"工事監督課",{"$f":"入力シート!C17&\"\"","v":""}]
[4,"監督員",{"$f":"入力シート!C18&\"\"","v":""},null,null,null,null,null,5,"工　種",null,null,{"$f":"入力シート!C19&\"\"","v":""}]
[6,"使用部分",{"$f":"入力シート!C20&\"\"","v":""},null,null,null,null,null,7,"使用材料",null,null,{"$f":"入力シート!C21&\"\"","v":""}]
[8,"製造業者\n及び産地等",{"$f":"入力シート!C22&\"\"","v":""}]
[9,"備　考",{"$f":"入力シート!C23&\"\"","v":""}]
[10," 土質試験項目"]
[null,"試験名",null,"整理\n番号","単位","単価",null,"件数",null,"試験名",null,null,null,"整理\n番号","単位","単価",null,"件数"]
[null," ①土粒子の比重試験",null,"01","１\n試料","6,310円",null,{"$f":"入力シート!G24&\"\"","v":""},null," ⑥土の室内\n　 ＣＢＲ試験",null,null,null,"06","１\n試料","26,970円",null,{"$f":"入力シート!G30&\"\"","v":""}]
[null," ②土の含水比試験",null,"02","１\n試料","2,580円",null,{"$f":"入力シート!G26&\"\"","v":""},null," ⑦土の修正\n　 ＣＢＲ試験",null,null,null,"07","１\n試料","49,130円",null,{"$f":"入力シート!G32&\"\"","v":""}]
[null," ③土の粒度試験",null,"03","１\n試料","13,170円",null,{"$f":"入力シート!G28&\"\"","v":""},null," ⑧土の\n　 突き固め試験",null,null,null,"08","１\n試料","19,730円",null,{"$f":"入力シート!G34&\"\"","v":""}]
[null,null,null,null,null,null,null,null,null," ⑨その他\n　　（再 交 付）",null,null,null,51,"件","300円",null,{"$f":"入力シート!G36&\"\"","v":""}]
[11,"通知方法"]
[null,null,null,null,null,null,null,null,null,null,null,null,null,null,{"$f":"入力シート!J38","v":0}]

{"sheet":"link","index":7,"n_rows":3,"n_cols":5,"rows_kept":3,"cut":false,"hidden":false,"merged":[[2,1,3,1]]}
[]
[null,null,"伺 （通知）"]
[null,"月　日","担 当","係 長","課 長"]